BEGIN:VCALENDAR
VERSION:2.0
PRODID:-//Onion Lake Family Services - ECPv6.15.20//NONSGML v1.0//EN
CALSCALE:GREGORIAN
METHOD:PUBLISH
X-ORIGINAL-URL:https://olfs.ca
X-WR-CALDESC:Events for Onion Lake Family Services
REFRESH-INTERVAL;VALUE=DURATION:PT1H
X-Robots-Tag:noindex
X-PUBLISHED-TTL:PT1H
BEGIN:VTIMEZONE
TZID:America/Regina
BEGIN:STANDARD
TZOFFSETFROM:-0600
TZOFFSETTO:-0600
TZNAME:CST
DTSTART:20230101T000000
END:STANDARD
END:VTIMEZONE
BEGIN:VEVENT
DTSTART;TZID=America/Regina:20241218T130000
DTEND;TZID=America/Regina:20241218T143000
DTSTAMP:20260420T060420
CREATED:20241204T211139Z
LAST-MODIFIED:20241204T213848Z
UID:10000011-1734526800-1734532200@olfs.ca
SUMMARY:TRIPLE P ZOOM CLASS
DESCRIPTION:Raising Resilient Children\nWednesday\, December 18th @ 1:00 PM\nParents are introduced to six core building blocks for children to manage their feelings and become resilient in dealing with life stress. These competencies are:\n• Recognizing and accepting feelings.\n• Expressing feelings appropriately.\n• Building a positive outlook.\n• Developing coping skills.\n• Dealing with negative feelings.\n• Dealing with stressful life events.\nEmail Vanessa for the ZOOM Link vanessa.rose@olfs.ca or Call 306-344-3448
URL:https://olfs.ca/event/triple-p-zoom-class/
LOCATION:Zoom\, Canada
CATEGORIES:Prevention,Triple P
END:VEVENT
BEGIN:VEVENT
DTSTART;TZID=America/Regina:20241128T130000
DTEND;TZID=America/Regina:20241128T140000
DTSTAMP:20260420T060420
CREATED:20241127T163827Z
LAST-MODIFIED:20241127T163827Z
UID:10000008-1732798800-1732802400@olfs.ca
SUMMARY:ZOOM Class "Raising Confident\, Competent Children"
DESCRIPTION:In this seminar\, parents are introduced to six core building blocks for children to become confident and successful at school and beyond. These competencies are: • Showing respect to others. • Being considerate. • Having good communication and social skills. • Having healthy self-esteem. • Being a good problem solver. • Becoming independent \nEmail vanessa.rose@olfs.ca for the Link
URL:https://olfs.ca/event/zoom-class-raising-confident-competent-children/
LOCATION:Zoom\, Canada
END:VEVENT
END:VCALENDAR